BEGIN:VCALENDAR
VERSION:2.0
PRODID:-//eventon.com NONSGML v1.0//EN
CALSCALE:GREGORIAN
METHOD:PUBLISH
BEGIN:VEVENT
UID:69e5ed5ecb843
DTSTAMP:20260420T040950
DTSTART:20200211T183000Z
DTEND:20200211T235000Z
TZID:UTC
LOCATION:
SUMMARY:Tuesday Family Service - Elaine Shelton
DESCRIPTION:Elaine Shelton\nhttps://faithcenterfreeport.org/events/tuesday-family-service-elaine-shelton/
URL:https://faithcenterfreeport.org/events/tuesday-family-service-elaine-shelton/
END:VEVENT
END:VCALENDAR