BEGIN:VCALENDAR
VERSION:2.0
PRODID:-//eventon.com NONSGML v1.0//EN
CALSCALE:GREGORIAN
METHOD:PUBLISH
BEGIN:VEVENT
UID:69e735d96aef9
DTSTAMP:20260421T033121
DTSTART:20220612T100000Z
DTEND:20220612T010000Z
TZID:Pacific/Midway
LOCATION:
SUMMARY:Graduation Day Celebration
DESCRIPTION:Sunday\,  June 12th\,  Graduation Day Celebration. Anyone graduating from high school\,  technical school\,  or college\,  please sign up in Fellowship Hall.\nhttps://faithcenterfreeport.org/events/graduation-day-celebration/
URL:https://faithcenterfreeport.org/events/graduation-day-celebration/
END:VEVENT
END:VCALENDAR