BEGIN:VCALENDAR
VERSION:2.0
PRODID:-//eventon.com NONSGML v1.0//EN
CALSCALE:GREGORIAN
METHOD:PUBLISH
BEGIN:VEVENT
UID:69e734e56b0a5
DTSTAMP:20260421T032717
DTSTART:20210601T183000Z
DTEND:20210601T235000Z
TZID:UTC
LOCATION:
SUMMARY:Tuesday Family Service - Valerie Hale
DESCRIPTION:Tuesday Family Service &#8211; Valerie Hale\nhttps://faithcenterfreeport.org/events/tuesday-family-service-valerie-hale-2/
URL:https://faithcenterfreeport.org/events/tuesday-family-service-valerie-hale-2/
END:VEVENT
END:VCALENDAR